<?xml version="1.0" encoding="utf-8"?>
<Capabilities xmlns:ows="http://www.opengis.net/ows/1.1" xmlns:xlink="http://www.w3.org/1999/xlink" xmlns:xsi="http://www.w3.org/2001/XMLSchema-instance" version="1.0.0" xsi:schemaLocation="http://www.opengis.net/wmts/1.0 http://schemas.opengis.net/wmts/1.0/wmtsGetCapabilities_response.xsd" xmlns="http://www.opengis.net/wmts/1.0">
  <ows:ServiceIdentification>
    <ows:Title>basemap.at</ows:Title>
    <ows:Abstract>Rasterkacheln der basemap AT. Erstellt mit Open Source.</ows:Abstract>
    <ows:Keywords>
      <ows:Keyword>WMTS</ows:Keyword>
      <ows:Keyword>Tiles</ows:Keyword>
      <ows:Keyword>Basemap</ows:Keyword>
      <ows:Keyword>EPSG:3857</ows:Keyword>
    </ows:Keywords>
    <ows:ServiceType>OGC WMTS</ows:ServiceType>
    <ows:ServiceTypeVersion>1.0.0</ows:ServiceTypeVersion>
    <ows:Fees>none</ows:Fees>
    <ows:AccessConstraints>none</ows:AccessConstraints>
  </ows:ServiceIdentification>
  <ows:ServiceProvider>
    <ows:ProviderName>City of Vienna</ows:ProviderName>
    <ows:ProviderSite xlink:href="https://www.wien.gv.at/viennagis" />
    <ows:ServiceContact>
      <ows:ContactInfo>
        <ows:Address>
          <ows:City>Vienna</ows:City>
          <ows:Country>Austria</ows:Country>
          <ows:ElectronicMailAddress>viennagis@post.wien.gv.at</ows:ElectronicMailAddress>
        </ows:Address>
      </ows:ContactInfo>
    </ows:ServiceContact>
  </ows:ServiceProvider>
  <ows:OperationsMetadata>
    <ows:Operation name="GetCapabilities">
      <ows:DCP>
        <ows:HTTP>
          <ows:Get xlink:href="https://basemap-preview.bergwerk-gis.at/basemap-download/webapp/api/tilesets/basemap-at-isolinien_11-17-raster">
            <ows:Constraint name="GetEncoding">
              <ows:AllowedValues>
                <ows:Value>RESTful</ows:Value>
              </ows:AllowedValues>
            </ows:Constraint>
          </ows:Get>
        </ows:HTTP>
      </ows:DCP>
    </ows:Operation>
    <ows:Operation name="GetTile">
      <ows:DCP>
        <ows:HTTP>
          <ows:Get xlink:href="https://basemap-preview.bergwerk-gis.at/basemap-download/webapp/api/tilesets/basemap-at-isolinien_11-17-raster">
            <ows:Constraint name="GetEncoding">
              <ows:AllowedValues>
                <ows:Value>RESTful</ows:Value>
              </ows:AllowedValues>
            </ows:Constraint>
          </ows:Get>
        </ows:HTTP>
      </ows:DCP>
    </ows:Operation>
  </ows:OperationsMetadata>
  <Contents>
    <Layer>
      <ows:Title>basemap-at-isolinien_11-17-raster</ows:Title>
      <ows:Abstract>WMTS layer for basemap-at-isolinien_11-17-raster.</ows:Abstract>
      <ows:Identifier>basemap-at-isolinien_11-17-raster</ows:Identifier>
      <ows:WGS84BoundingBox>
        <ows:LowerCorner>-180 -85.05112878</ows:LowerCorner>
        <ows:UpperCorner>180 85.05112878</ows:UpperCorner>
      </ows:WGS84BoundingBox>
      <Style isDefault="true">
        <ows:Identifier>default</ows:Identifier>
        <ows:Title>Default Style</ows:Title>
      </Style>
      <Format>image/png</Format>
      <ResourceURL format="image/png" resourceType="tile" template="https://basemap-preview.bergwerk-gis.at/basemap-download/webapp/api/tiles/basemap-at-isolinien_11-17-raster/wmts/{Style}/{TileMatrixSet}/{TileMatrix}/{TileRow}/{TileCol}.png" />
      <TileMatrixSetLink>
        <TileMatrixSet>GoogleMapsCompatible</TileMatrixSet>
      </TileMatrixSetLink>
    </Layer>
    <TileMatrixSet>
      <ows:Identifier>GoogleMapsCompatible</ows:Identifier>
      <ows:SupportedCRS>urn:ogc:def:crs:EPSG::3857</ows:SupportedCRS>
      <WellKnownScaleSet>urn:ogc:def:wkss:OGC:1.0:GoogleMapsCompatible</WellKnownScaleSet>
      <TileMatrix>
        <ows:Identifier>11</ows:Identifier>
        <ScaleDenominator>272989.386732772</ScaleDenominator>
        <TopLeftCorner>-20037508.3427892 20037508.3427892</TopLeftCorner>
        <TileWidth>256</TileWidth>
        <TileHeight>256</TileHeight>
        <MatrixWidth>2048</MatrixWidth>
        <MatrixHeight>2048</MatrixHeight>
      </TileMatrix>
      <TileMatrix>
        <ows:Identifier>12</ows:Identifier>
        <ScaleDenominator>136494.693366386</ScaleDenominator>
        <TopLeftCorner>-20037508.3427892 20037508.3427892</TopLeftCorner>
        <TileWidth>256</TileWidth>
        <TileHeight>256</TileHeight>
        <MatrixWidth>4096</MatrixWidth>
        <MatrixHeight>4096</MatrixHeight>
      </TileMatrix>
      <TileMatrix>
        <ows:Identifier>13</ows:Identifier>
        <ScaleDenominator>68247.3466831931</ScaleDenominator>
        <TopLeftCorner>-20037508.3427892 20037508.3427892</TopLeftCorner>
        <TileWidth>256</TileWidth>
        <TileHeight>256</TileHeight>
        <MatrixWidth>8192</MatrixWidth>
        <MatrixHeight>8192</MatrixHeight>
      </TileMatrix>
      <TileMatrix>
        <ows:Identifier>14</ows:Identifier>
        <ScaleDenominator>34123.6733415965</ScaleDenominator>
        <TopLeftCorner>-20037508.3427892 20037508.3427892</TopLeftCorner>
        <TileWidth>256</TileWidth>
        <TileHeight>256</TileHeight>
        <MatrixWidth>16384</MatrixWidth>
        <MatrixHeight>16384</MatrixHeight>
      </TileMatrix>
      <TileMatrix>
        <ows:Identifier>15</ows:Identifier>
        <ScaleDenominator>17061.8366707983</ScaleDenominator>
        <TopLeftCorner>-20037508.3427892 20037508.3427892</TopLeftCorner>
        <TileWidth>256</TileWidth>
        <TileHeight>256</TileHeight>
        <MatrixWidth>32768</MatrixWidth>
        <MatrixHeight>32768</MatrixHeight>
      </TileMatrix>
      <TileMatrix>
        <ows:Identifier>16</ows:Identifier>
        <ScaleDenominator>8530.91833539914</ScaleDenominator>
        <TopLeftCorner>-20037508.3427892 20037508.3427892</TopLeftCorner>
        <TileWidth>256</TileWidth>
        <TileHeight>256</TileHeight>
        <MatrixWidth>65536</MatrixWidth>
        <MatrixHeight>65536</MatrixHeight>
      </TileMatrix>
      <TileMatrix>
        <ows:Identifier>17</ows:Identifier>
        <ScaleDenominator>4265.45916769957</ScaleDenominator>
        <TopLeftCorner>-20037508.3427892 20037508.3427892</TopLeftCorner>
        <TileWidth>256</TileWidth>
        <TileHeight>256</TileHeight>
        <MatrixWidth>131072</MatrixWidth>
        <MatrixHeight>131072</MatrixHeight>
      </TileMatrix>
      <TileMatrix>
        <ows:Identifier>18</ows:Identifier>
        <ScaleDenominator>2132.72958384978</ScaleDenominator>
        <TopLeftCorner>-20037508.3427892 20037508.3427892</TopLeftCorner>
        <TileWidth>256</TileWidth>
        <TileHeight>256</TileHeight>
        <MatrixWidth>262144</MatrixWidth>
        <MatrixHeight>262144</MatrixHeight>
      </TileMatrix>
      <TileMatrix>
        <ows:Identifier>19</ows:Identifier>
        <ScaleDenominator>1066.36479192489</ScaleDenominator>
        <TopLeftCorner>-20037508.3427892 20037508.3427892</TopLeftCorner>
        <TileWidth>256</TileWidth>
        <TileHeight>256</TileHeight>
        <MatrixWidth>524288</MatrixWidth>
        <MatrixHeight>524288</MatrixHeight>
      </TileMatrix>
      <TileMatrix>
        <ows:Identifier>20</ows:Identifier>
        <ScaleDenominator>533.182395962446</ScaleDenominator>
        <TopLeftCorner>-20037508.3427892 20037508.3427892</TopLeftCorner>
        <TileWidth>256</TileWidth>
        <TileHeight>256</TileHeight>
        <MatrixWidth>1048576</MatrixWidth>
        <MatrixHeight>1048576</MatrixHeight>
      </TileMatrix>
    </TileMatrixSet>
  </Contents>
  <ServiceMetadataURL xlink:href="https://basemap-preview.bergwerk-gis.at/basemap-download/webapp/api/tilesets/basemap-at-isolinien_11-17-raster/1.0.0/WMTSCapabilities.xml" />
</Capabilities>